BEGIN:VCALENDAR
VERSION:2.0
PRODID:-//Crosstown Concourse - Come Curious - ECPv6.15.8//NONSGML v1.0//EN
CALSCALE:GREGORIAN
METHOD:PUBLISH
X-WR-CALNAME:Crosstown Concourse - Come Curious
X-ORIGINAL-URL:https://crosstownconcourse.com
X-WR-CALDESC:Events for Crosstown Concourse - Come Curious
REFRESH-INTERVAL;VALUE=DURATION:PT1H
X-Robots-Tag:noindex
X-PUBLISHED-TTL:PT1H
BEGIN:VTIMEZONE
TZID:America/Chicago
BEGIN:DAYLIGHT
TZOFFSETFROM:-0600
TZOFFSETTO:-0500
TZNAME:CDT
DTSTART:20250309T080000
END:DAYLIGHT
BEGIN:STANDARD
TZOFFSETFROM:-0500
TZOFFSETTO:-0600
TZNAME:CST
DTSTART:20251102T070000
END:STANDARD
BEGIN:DAYLIGHT
TZOFFSETFROM:-0600
TZOFFSETTO:-0500
TZNAME:CDT
DTSTART:20260308T080000
END:DAYLIGHT
BEGIN:STANDARD
TZOFFSETFROM:-0500
TZOFFSETTO:-0600
TZNAME:CST
DTSTART:20261101T070000
END:STANDARD
BEGIN:DAYLIGHT
TZOFFSETFROM:-0600
TZOFFSETTO:-0500
TZNAME:CDT
DTSTART:20270314T080000
END:DAYLIGHT
BEGIN:STANDARD
TZOFFSETFROM:-0500
TZOFFSETTO:-0600
TZNAME:CST
DTSTART:20271107T070000
END:STANDARD
END:VTIMEZONE
BEGIN:VEVENT
DTSTART;TZID=America/Chicago:20260303T193000
DTEND;TZID=America/Chicago:20260303T213000
DTSTAMP:20260420T115433
CREATED:20260112T210821Z
LAST-MODIFIED:20260112T210821Z
UID:7054-1772566200-1772573400@crosstownconcourse.com
SUMMARY:The Lawrence Graduate Bayreuth Tuben Quintete
DESCRIPTION:The Lawrence Graduate Bayreuth Tuben Quintet \nThe Green Room at Crosstown Arts \nTuesday\, March 3\, 2026 \nDoors open at 7 PM | Show begins at 7:30 PM \n$20 in advance | $25 at the door | $10 student tickets \nPURCHASE TICKETS HERE \nExisting in a realm of pure creativity\, the Lawrence Graduate Bayreuth Tuben Quintet is known for their playful programming\, often collaborating with singers and dancers\, as well as sometimes laying down their tubas and singing or dancing themselves! The irreverent chamber music ensemble embraces camp\, cringe\, and radical vulnerability\, wholeheartedly expressing queer joy\, grief\, and bravery. \nThe Lawrence Graduate Bayreuth Tuben Quintet is a tuben horn quintet that\, fluid by design and inclination\, is comprised of at least six members who identify as\, know\, or would like to know\, someone who is LGBTQ+. In light of recent events\, the LGBTuben Quintet have issued an emergency deployment of themselves to the state of Tennessee.
URL:https://crosstownconcourse.com/event/the-lawrence-graduate-bayreuth-tuben-quintete/
CATEGORIES:Dance,Music
ATTACH;FMTTYPE=image/png:https://crosstownconcourse.com/wp-content/uploads/2026/01/Screen-Shot-2026-01-12-at-3.07.09-PM.png
END:VEVENT
BEGIN:VEVENT
DTSTART;TZID=America/Chicago:20260313T193000
DTEND;TZID=America/Chicago:20260313T213000
DTSTAMP:20260420T115433
CREATED:20260112T211336Z
LAST-MODIFIED:20260112T212021Z
UID:7056-1773430200-1773437400@crosstownconcourse.com
SUMMARY:Speaker Girl\, Joybomb\, & Sunweight
DESCRIPTION:Speaker Girl\, Joybomb\, & Sunweight \nThe Green Room at Crosstown Arts \nFriday\, March 13\, 2026 \nDoors open at 7 PM | Show begins at 7:30 PM \n$20 in advance | $25 at the door \nPURCHASE TICKETS HERE \nSpeaker Girl\, Joybomb\, and Sunweight are coming together to showcase what the Memphis Alternative scene is sounding like these days. It’ll be an electric night filled with sounds of eclectic saxophone\, fiery pop-punk\, and hyperkinetic indie-rock that you wouldn’t want to miss out on. \nThis is a big stop among the many shows of Speaker Girl Tour promoting their debut record ‘Speaker Girl EP.’ You may hear their songs being spun at Crosstown’s very own WYXR and around other stations in the city. \nSpeaker Girl \nSpeaker Girl is an alternative band from Memphis\, Tennessee. Ranging from softer\, melodic indie rock to grunge/punk\, they have been described as “hyperkinetic” and “post-grunge ghosts.” \nThis show will be a stop on Speaker Girl Tour promoting their debut record ‘Speaker Girl EP’. \nJoybomb \nJoybomb is a fiery alt-rock band from Memphis\, TN\, blending indie\, pop-punk\, and post-hardcore into a sound that’s explosive and anthemic. With electrifying live shows and razor-sharp hooks\, they tackle everything from consumer culture and political theatre to tragic romance. \nSunweight \nSunweight is a rock/jazz group from Memphis\, TN. Filled with psychedelic guitar and synth\, eclectic saxophone\, and tight rhythm incorporating a unique Memphis style; the music has elements for everyone to connect to.
URL:https://crosstownconcourse.com/event/speaker-girl-joybomb-sunweight/
LOCATION:The Green Room
CATEGORIES:Music
ATTACH;FMTTYPE=image/png:https://crosstownconcourse.com/wp-content/uploads/2026/01/Screen-Shot-2026-01-12-at-3.09.44-PM.png
END:VEVENT
END:VCALENDAR